BEGIN:VCALENDAR
VERSION:2.0
PRODID:SchoolNow
CALSCALE:GREGORIAN
BEGIN:VEVENT
UID:0fc76ee6-03ce-11f1-a57d-0afff455e487
DTSTAMP:20260207T023818Z
SUMMARY:President's Day - NO SCHOOL
URL;VALUE=URI:https://schools.shrewsburyma.gov/high/calendar/8850911/presid
 ents-day-no-school
DTSTART;VALUE=DATE:20260216
DTEND;VALUE=DATE:20260217
END:VEVENT
END:VCALENDAR
