BEGIN:VCALENDAR
VERSION:2.0
PRODID:SchoolNow
CALSCALE:GREGORIAN
BEGIN:VEVENT
UID:f02009b8-03cd-11f1-b285-0a58a9feac02
DTSTAMP:20260207T023725Z
SUMMARY:8th Grade Curriculum Night (Snow Date)
URL;VALUE=URI:https://schools.shrewsburyma.gov/high/calendar/8850910/8th-gr
 ade-curriculum-night-snow-date
DTSTART:20260212T233000Z
DTEND:20260213T010000Z
END:VEVENT
END:VCALENDAR
