BEGIN:VCALENDAR
VERSION:2.0
PRODID:SchoolNow
CALSCALE:GREGORIAN
BEGIN:VEVENT
UID:db1b74d0-03cd-11f1-8680-0a58a9feac02
DTSTAMP:20260207T023650Z
SUMMARY:8th Grade Curriculum Night
URL;VALUE=URI:https://schools.shrewsburyma.gov/high/calendar/8850909/8th-gr
 ade-curriculum-night
DTSTART:20260210T143000Z
DTEND:20260211T010000Z
END:VEVENT
END:VCALENDAR
