BEGIN:VCALENDAR
VERSION:2.0
PRODID:SchoolNow
CALSCALE:GREGORIAN
BEGIN:VEVENT
UID:e2055d98-6895-11f0-a568-0a58a9feac02
DTSTAMP:20250724T135628Z
SUMMARY:Senior Leadership Summit
URL;VALUE=URI:https://schools.shrewsburyma.gov/high/calendar/8442814/senior
 -leadership-summit
DTSTART:20250731T140000Z
DTEND:20250731T170000Z
END:VEVENT
END:VCALENDAR
