BEGIN:VCALENDAR
VERSION:2.0
PRODID:SchoolNow
CALSCALE:GREGORIAN
BEGIN:VEVENT
UID:db4606ba-6336-11f0-abeb-0affeb7aaf91
DTSTAMP:20250717T175250Z
SUMMARY:Freshmen Orientation
URL;VALUE=URI:https://schools.shrewsburyma.gov/high/calendar/8424656/freshm
 en-orientation
DTSTART:20250820T220000Z
DTEND:20250821T000000Z
END:VEVENT
END:VCALENDAR
