BEGIN:VCALENDAR
VERSION:2.0
PRODID:SchoolNow
CALSCALE:GREGORIAN
BEGIN:VEVENT
UID:d6f000a8-6335-11f0-b792-0a58a9feac02
DTSTAMP:20250717T174709Z
SUMMARY:Captain's Leadership Summit
URL;VALUE=URI:https://schools.shrewsburyma.gov/high/calendar/8424648/captai
 ns-leadership-summit
DTSTART:20250813T130000Z
DTEND:20250813T190000Z
END:VEVENT
END:VCALENDAR
