BEGIN:VCALENDAR
VERSION:2.0
PRODID:SchoolNow
CALSCALE:GREGORIAN
BEGIN:VEVENT
UID:bbba7942-42b8-11ef-ad69-025c0a2a24f5
DTSTAMP:20240715T144426Z
SUMMARY:First Day of School
URL;VALUE=URI:https://schools.shrewsburyma.gov/high/calendar/6262055/first-
 day-of-school
DTSTART;VALUE=DATE:20240827
DTEND;VALUE=DATE:20240828
END:VEVENT
END:VCALENDAR
