BEGIN:VCALENDAR
VERSION:2.0
PRODID:SchoolNow
CALSCALE:GREGORIAN
BEGIN:VEVENT
UID:d3507152-3766-11f1-9809-0e8ec9654979
DTSTAMP:20260422T092016Z
SUMMARY:ASAP Classes
URL;VALUE=URI:https://schools.shrewsburyma.gov/coolidge/calendar/8991017/as
 ap-classes
DTSTART:20260603T194500Z
DTEND:20260603T204500Z
END:VEVENT
END:VCALENDAR
