BEGIN:VCALENDAR
VERSION:2.0
PRODID:SchoolNow
CALSCALE:GREGORIAN
BEGIN:VEVENT
UID:d3506a2c-3766-11f1-84d4-0e8ec9654979
DTSTAMP:20260422T031517Z
SUMMARY:ASAP Classes
URL;VALUE=URI:https://schools.shrewsburyma.gov/coolidge/calendar/8991012/as
 ap-classes
DTSTART:20260429T194500Z
DTEND:20260429T204500Z
END:VEVENT
END:VCALENDAR
