BEGIN:VCALENDAR
VERSION:2.0
PRODID:SchoolNow
CALSCALE:GREGORIAN
BEGIN:VEVENT
UID:19ab6fe2-31d3-11f1-8731-0e7733b3f841
DTSTAMP:20260422T092016Z
SUMMARY:Enrichment (Baking\, Basketball\, Robotics)
URL;VALUE=URI:https://schools.shrewsburyma.gov/coolidge/calendar/8974350/en
 richment-baking-basketball-robotics
DTSTART:20260514T194500Z
DTEND:20260514T204500Z
END:VEVENT
END:VCALENDAR
