BEGIN:VCALENDAR
VERSION:2.0
PRODID:SchoolNow
CALSCALE:GREGORIAN
BEGIN:VEVENT
UID:19ab6de4-31d3-11f1-8af6-0e7733b3f841
DTSTAMP:20260422T031517Z
SUMMARY:Enrichment (Baking\, Basketball\, Robotics)
URL;VALUE=URI:https://schools.shrewsburyma.gov/coolidge/calendar/8974348/en
 richment-baking-basketball-robotics
DTSTART:20260430T194500Z
DTEND:20260430T204500Z
END:VEVENT
END:VCALENDAR
