BEGIN:VCALENDAR
VERSION:2.0
PRODID:SchoolNow
CALSCALE:GREGORIAN
BEGIN:VEVENT
UID:93978892-2876-11f1-9a2b-0ecfc1ae7ddb
DTSTAMP:20260422T092016Z
SUMMARY:Coolidge Field Day - RAIN DATE
URL;VALUE=URI:https://schools.shrewsburyma.gov/coolidge/calendar/8944828/co
 olidge-field-day-rain-date
DTSTART;VALUE=DATE:20260615
DTEND;VALUE=DATE:20260616
END:VEVENT
END:VCALENDAR
