BEGIN:VCALENDAR
VERSION:2.0
PRODID:SchoolNow
CALSCALE:GREGORIAN
BEGIN:VEVENT
UID:a83264be-26de-11f1-9be9-02415eaf6637
DTSTAMP:20260422T092016Z
SUMMARY:PTO Meeting
URL;VALUE=URI:https://schools.shrewsburyma.gov/coolidge/calendar/8939547/pt
 o-meeting
DTSTART:20260324T220000Z
DTEND:20260324T230000Z
END:VEVENT
END:VCALENDAR
