BEGIN:VCALENDAR
VERSION:2.0
PRODID:SchoolNow
CALSCALE:GREGORIAN
BEGIN:VEVENT
UID:c81025a2-247a-11f1-9829-0233d7537c1b
DTSTAMP:20260422T092016Z
SUMMARY:Coolidge Field Day
URL;VALUE=URI:https://schools.shrewsburyma.gov/coolidge/calendar/8932751/co
 olidge-field-day
DTSTART;VALUE=DATE:20260611
DTEND;VALUE=DATE:20260612
END:VEVENT
END:VCALENDAR
