BEGIN:VCALENDAR
VERSION:2.0
PRODID:SchoolNow
CALSCALE:GREGORIAN
BEGIN:VEVENT
UID:e4a48588-2249-11f1-878e-0a58a9feac02
DTSTAMP:20260422T031517Z
SUMMARY:Wacky Wednesday
URL;VALUE=URI:https://schools.shrewsburyma.gov/coolidge/calendar/8925734/wa
 cky-wednesday
DTSTART:20260401T194500Z
DTEND:20260401T204500Z
END:VEVENT
END:VCALENDAR
