BEGIN:VCALENDAR
VERSION:2.0
PRODID:SchoolNow
CALSCALE:GREGORIAN
BEGIN:VEVENT
UID:e4a48376-2249-11f1-8b19-0a58a9feac02
DTSTAMP:20260422T092016Z
SUMMARY:Wacky Wednesday
URL;VALUE=URI:https://schools.shrewsburyma.gov/coolidge/calendar/8925732/wa
 cky-wednesday
DTSTART:20260318T194500Z
DTEND:20260318T204500Z
END:VEVENT
END:VCALENDAR
