BEGIN:VCALENDAR
VERSION:2.0
PRODID:SchoolNow
CALSCALE:GREGORIAN
BEGIN:VEVENT
UID:e4a47fc0-2249-11f1-bb1a-0a58a9feac02
DTSTAMP:20260422T092016Z
SUMMARY:Grade 4 Celebration and Ice Cream Social
URL;VALUE=URI:https://schools.shrewsburyma.gov/coolidge/calendar/8925731/gr
 ade-4-celebration-and-ice-cream-social
DTSTART;VALUE=DATE:20260618
DTEND;VALUE=DATE:20260619
END:VEVENT
END:VCALENDAR
