BEGIN:VCALENDAR
VERSION:2.0
PRODID:SchoolNow
CALSCALE:GREGORIAN
BEGIN:VEVENT
UID:e4a47b4c-2249-11f1-91cf-0a58a9feac02
DTSTAMP:20260422T092016Z
SUMMARY:SHS Graduate Clap Out!
URL;VALUE=URI:https://schools.shrewsburyma.gov/coolidge/calendar/8925730/sh
 s-graduate-clap-out
DTSTART;VALUE=DATE:20260604
DTEND;VALUE=DATE:20260605
END:VEVENT
END:VCALENDAR
