BEGIN:VCALENDAR
VERSION:2.0
PRODID:SchoolNow
CALSCALE:GREGORIAN
BEGIN:VEVENT
UID:b02cf75c-128d-11f1-94a4-0e47ada2222b
DTSTAMP:20260422T092016Z
SUMMARY:Wacky Wednesday/3D Art
URL;VALUE=URI:https://schools.shrewsburyma.gov/coolidge/calendar/8871220/wa
 cky-wednesday-3d-art
DTSTART:20260304T204500Z
DTEND:20260304T214500Z
END:VEVENT
END:VCALENDAR
