BEGIN:VCALENDAR
VERSION:2.0
PRODID:SchoolNow
CALSCALE:GREGORIAN
BEGIN:VEVENT
UID:b02cf432-128d-11f1-a973-0e47ada2222b
DTSTAMP:20260422T092016Z
SUMMARY:Wacky Wednesday/3D Art
URL;VALUE=URI:https://schools.shrewsburyma.gov/coolidge/calendar/8871219/wa
 cky-wednesday-3d-art
DTSTART:20260225T204500Z
DTEND:20260225T214500Z
END:VEVENT
END:VCALENDAR
