BEGIN:VCALENDAR
VERSION:2.0
PRODID:SchoolNow
CALSCALE:GREGORIAN
BEGIN:VEVENT
UID:4b67935c-06cd-11f1-9f75-0a58a9feac02
DTSTAMP:20260422T031517Z
SUMMARY:Amys Sweet Treats
URL;VALUE=URI:https://schools.shrewsburyma.gov/coolidge/calendar/8852413/am
 ys-sweet-treats
DTSTART:20260402T194500Z
DTEND:20260402T204500Z
END:VEVENT
END:VCALENDAR
