BEGIN:VCALENDAR
VERSION:2.0
PRODID:SchoolNow
CALSCALE:GREGORIAN
BEGIN:VEVENT
UID:4b679064-06cd-11f1-83f3-0a58a9feac02
DTSTAMP:20260422T092016Z
SUMMARY:Amys Sweet Treats
URL;VALUE=URI:https://schools.shrewsburyma.gov/coolidge/calendar/8852412/am
 ys-sweet-treats
DTSTART:20260326T194500Z
DTEND:20260326T204500Z
END:VEVENT
END:VCALENDAR
