BEGIN:VCALENDAR
VERSION:2.0
PRODID:SchoolNow
CALSCALE:GREGORIAN
BEGIN:VEVENT
UID:4bd8c5b4-069a-11f1-bea7-02925d0fcb4d
DTSTAMP:20260422T092016Z
SUMMARY:100th Day of School!
URL;VALUE=URI:https://schools.shrewsburyma.gov/coolidge/calendar/8852125/10
 0th-day-of-school
DTSTART;VALUE=DATE:20260211
DTEND;VALUE=DATE:20260212
END:VEVENT
END:VCALENDAR
