BEGIN:VCALENDAR
VERSION:2.0
PRODID:SchoolNow
CALSCALE:GREGORIAN
BEGIN:VEVENT
UID:4bd8bf38-069a-11f1-829f-02925d0fcb4d
DTSTAMP:20260422T092016Z
SUMMARY:PTO Meeting
URL;VALUE=URI:https://schools.shrewsburyma.gov/coolidge/calendar/8852124/pt
 o-meeting
DTSTART:20260224T230000Z
DTEND:20260225T000000Z
END:VEVENT
END:VCALENDAR
