BEGIN:VCALENDAR
VERSION:2.0
PRODID:SchoolNow
CALSCALE:GREGORIAN
BEGIN:VEVENT
UID:00d97ca6-f8a9-11f0-ac5e-0a58a9feac02
DTSTAMP:20260422T092016Z
SUMMARY:Chess
URL;VALUE=URI:https://schools.shrewsburyma.gov/coolidge/calendar/8840075/ch
 ess
DTSTART:20260226T204500Z
DTEND:20260226T214500Z
END:VEVENT
END:VCALENDAR
