BEGIN:VCALENDAR
VERSION:2.0
PRODID:SchoolNow
CALSCALE:GREGORIAN
BEGIN:VEVENT
UID:00d97ada-f8a9-11f0-b466-0a58a9feac02
DTSTAMP:20260422T092016Z
SUMMARY:Chess
URL;VALUE=URI:https://schools.shrewsburyma.gov/coolidge/calendar/8840073/ch
 ess
DTSTART:20260212T204500Z
DTEND:20260212T214500Z
END:VEVENT
END:VCALENDAR
