BEGIN:VCALENDAR
VERSION:2.0
PRODID:SchoolNow
CALSCALE:GREGORIAN
BEGIN:VEVENT
UID:00d977ce-f8a9-11f0-bb29-0a58a9feac02
DTSTAMP:20260422T092016Z
SUMMARY:Amys Sweet Treats
URL;VALUE=URI:https://schools.shrewsburyma.gov/coolidge/calendar/8840071/am
 ys-sweet-treats
DTSTART:20260319T194500Z
DTEND:20260319T204500Z
END:VEVENT
END:VCALENDAR
