BEGIN:VCALENDAR
VERSION:2.0
PRODID:SchoolNow
CALSCALE:GREGORIAN
BEGIN:VEVENT
UID:00d976de-f8a9-11f0-89a5-0a58a9feac02
DTSTAMP:20260422T092016Z
SUMMARY:Amys Sweet Treats
URL;VALUE=URI:https://schools.shrewsburyma.gov/coolidge/calendar/8840070/am
 ys-sweet-treats
DTSTART:20260312T194500Z
DTEND:20260312T204500Z
END:VEVENT
END:VCALENDAR
