BEGIN:VCALENDAR
VERSION:2.0
PRODID:SchoolNow
CALSCALE:GREGORIAN
BEGIN:VEVENT
UID:00d975f8-f8a9-11f0-b1c4-0a58a9feac02
DTSTAMP:20260422T092016Z
SUMMARY:Amys Sweet Treats
URL;VALUE=URI:https://schools.shrewsburyma.gov/coolidge/calendar/8840069/am
 ys-sweet-treats
DTSTART:20260305T204500Z
DTEND:20260305T214500Z
END:VEVENT
END:VCALENDAR
