BEGIN:VCALENDAR
VERSION:2.0
PRODID:SchoolNow
CALSCALE:GREGORIAN
BEGIN:VEVENT
UID:00d974fe-f8a9-11f0-9acd-0a58a9feac02
DTSTAMP:20260422T092016Z
SUMMARY:Amys Sweet Treats
URL;VALUE=URI:https://schools.shrewsburyma.gov/coolidge/calendar/8840068/am
 ys-sweet-treats
DTSTART:20260226T204500Z
DTEND:20260226T214500Z
END:VEVENT
END:VCALENDAR
