BEGIN:VCALENDAR
VERSION:2.0
PRODID:SchoolNow
CALSCALE:GREGORIAN
BEGIN:VEVENT
UID:00d9712a-f8a9-11f0-92e9-0a58a9feac02
DTSTAMP:20260422T092016Z
SUMMARY:Fast Athletics
URL;VALUE=URI:https://schools.shrewsburyma.gov/coolidge/calendar/8840064/fa
 st-athletics
DTSTART:20260319T194500Z
DTEND:20260319T204500Z
END:VEVENT
END:VCALENDAR
