BEGIN:VCALENDAR
VERSION:2.0
PRODID:SchoolNow
CALSCALE:GREGORIAN
BEGIN:VEVENT
UID:00d96f36-f8a9-11f0-8e34-0a58a9feac02
DTSTAMP:20260422T092016Z
SUMMARY:Fast Athletics
URL;VALUE=URI:https://schools.shrewsburyma.gov/coolidge/calendar/8840062/fa
 st-athletics
DTSTART:20260305T204500Z
DTEND:20260305T214500Z
END:VEVENT
END:VCALENDAR
