BEGIN:VCALENDAR
VERSION:2.0
PRODID:SchoolNow
CALSCALE:GREGORIAN
BEGIN:VEVENT
UID:00d96e1e-f8a9-11f0-a1fd-0a58a9feac02
DTSTAMP:20260422T092016Z
SUMMARY:Fast Athletics
URL;VALUE=URI:https://schools.shrewsburyma.gov/coolidge/calendar/8840061/fa
 st-athletics
DTSTART:20260226T204500Z
DTEND:20260226T214500Z
END:VEVENT
END:VCALENDAR
