BEGIN:VCALENDAR
VERSION:2.0
PRODID:SchoolNow
CALSCALE:GREGORIAN
BEGIN:VEVENT
UID:1b7d3de4-f6de-11f0-b8c1-0a58a9feac02
DTSTAMP:20260422T092016Z
SUMMARY:Teacher Appreciation Week!
URL;VALUE=URI:https://schools.shrewsburyma.gov/coolidge/calendar/8838724/te
 acher-appreciation-week
DTSTART;VALUE=DATE:20260504
DTEND;VALUE=DATE:20260509
END:VEVENT
END:VCALENDAR
