BEGIN:VCALENDAR
VERSION:2.0
PRODID:SchoolNow
CALSCALE:GREGORIAN
BEGIN:VEVENT
UID:23f56a5e-f612-11f0-bb8d-0a58a9feac02
DTSTAMP:20260422T092016Z
SUMMARY:Papa Ginos Dine Out Event
LOCATION:164 Milk St\, Westborough\, MA 01581\, USA
URL;VALUE=URI:https://schools.shrewsburyma.gov/coolidge/calendar/8838014/pa
 pa-ginos-dine-out-event
DTSTART:20260205T210000Z
DTEND:20260206T020000Z
END:VEVENT
END:VCALENDAR
