BEGIN:VCALENDAR
VERSION:2.0
PRODID:SchoolNow
CALSCALE:GREGORIAN
BEGIN:VEVENT
UID:6090a7d8-f17d-11f0-9913-026ae21bf219
DTSTAMP:20260422T031517Z
SUMMARY:Grade 4 MCAS- ELA Session 2
URL;VALUE=URI:https://schools.shrewsburyma.gov/coolidge/calendar/8836248/gr
 ade-4-mcas-ela-session-2
DTSTART;VALUE=DATE:20260415
DTEND;VALUE=DATE:20260416
END:VEVENT
END:VCALENDAR
