BEGIN:VCALENDAR
VERSION:2.0
PRODID:SchoolNow
CALSCALE:GREGORIAN
BEGIN:VEVENT
UID:6090a364-f17d-11f0-8562-026ae21bf219
DTSTAMP:20260422T031517Z
SUMMARY:Grade 3 MCAS- ELA Session 2
URL;VALUE=URI:https://schools.shrewsburyma.gov/coolidge/calendar/8836246/gr
 ade-3-mcas-ela-session-2
DTSTART;VALUE=DATE:20260414
DTEND;VALUE=DATE:20260415
END:VEVENT
END:VCALENDAR
