BEGIN:VCALENDAR
VERSION:2.0
PRODID:SchoolNow
CALSCALE:GREGORIAN
BEGIN:VEVENT
UID:adea58c2-eb50-11f0-ab33-02c6206fb1b1
DTSTAMP:20260422T092016Z
SUMMARY:Fun Run
URL;VALUE=URI:https://schools.shrewsburyma.gov/coolidge/calendar/8832028/fu
 n-run
DTSTART;VALUE=DATE:20260209
DTEND;VALUE=DATE:20260210
END:VEVENT
END:VCALENDAR
