BEGIN:VCALENDAR
VERSION:2.0
PRODID:SchoolNow
CALSCALE:GREGORIAN
BEGIN:VEVENT
UID:bc4c12ac-ea51-11f0-93ea-0a58a9feac02
DTSTAMP:20260422T092016Z
SUMMARY:PTO Meeting
URL;VALUE=URI:https://schools.shrewsburyma.gov/coolidge/calendar/8828729/pt
 o-meeting
DTSTART:20260106T231500Z
DTEND:20260107T000000Z
END:VEVENT
END:VCALENDAR
