BEGIN:VCALENDAR
VERSION:2.0
PRODID:SchoolNow
CALSCALE:GREGORIAN
BEGIN:VEVENT
UID:19707450-d139-11f0-a4e4-0a58a9feac02
DTSTAMP:20260422T092016Z
SUMMARY:Gaga Ball/Legos/Puzzles/Origami
URL;VALUE=URI:https://schools.shrewsburyma.gov/coolidge/calendar/8817405/ga
 ga-ball-legos-puzzles-origami
DTSTART:20260107T204500Z
DTEND:20260107T214500Z
END:VEVENT
END:VCALENDAR
