BEGIN:VCALENDAR
VERSION:2.0
PRODID:SchoolNow
CALSCALE:GREGORIAN
BEGIN:VEVENT
UID:7ba83e54-c974-11f0-9adb-0a58a9feac02
DTSTAMP:20260422T092016Z
SUMMARY:CHESS/BBALL/SELF DEF.
URL;VALUE=URI:https://schools.shrewsburyma.gov/coolidge/calendar/8809126/ch
 ess-bball-self-def
DTSTART:20260108T204500Z
DTEND:20260108T214500Z
END:VEVENT
END:VCALENDAR
