BEGIN:VCALENDAR
VERSION:2.0
PRODID:SchoolNow
CALSCALE:GREGORIAN
BEGIN:VEVENT
UID:7ba83c60-c974-11f0-af09-0a58a9feac02
DTSTAMP:20260422T092016Z
SUMMARY:BBALL/SELF DEF.
URL;VALUE=URI:https://schools.shrewsburyma.gov/coolidge/calendar/8809125/bb
 all-self-def
DTSTART:20260122T204500Z
DTEND:20260122T214500Z
END:VEVENT
END:VCALENDAR
