BEGIN:VCALENDAR
VERSION:2.0
PRODID:SchoolNow
CALSCALE:GREGORIAN
BEGIN:VEVENT
UID:7ba8372e-c974-11f0-baa3-0a58a9feac02
DTSTAMP:20260422T092016Z
SUMMARY:BBALL/SELF DEF.
URL;VALUE=URI:https://schools.shrewsburyma.gov/coolidge/calendar/8809123/bb
 all-self-def
DTSTART:20260115T204500Z
DTEND:20260115T214500Z
END:VEVENT
END:VCALENDAR
