BEGIN:VCALENDAR
VERSION:2.0
PRODID:SchoolNow
CALSCALE:GREGORIAN
BEGIN:VEVENT
UID:e7dc5270-9591-11f0-a481-0affc363eacf
DTSTAMP:20260422T092016Z
SUMMARY:School Council Meeting
URL;VALUE=URI:https://schools.shrewsburyma.gov/coolidge/calendar/8643860/sc
 hool-council-meeting
DTSTART:20260512T210000Z
DTEND:20260512T220000Z
END:VEVENT
END:VCALENDAR
