BEGIN:VCALENDAR
VERSION:2.0
PRODID:SchoolNow
CALSCALE:GREGORIAN
BEGIN:VEVENT
UID:e7dc4dde-9591-11f0-9107-0affc363eacf
DTSTAMP:20260422T092016Z
SUMMARY:School Council Meeting
URL;VALUE=URI:https://schools.shrewsburyma.gov/coolidge/calendar/8643855/sc
 hool-council-meeting
DTSTART:20260224T220000Z
DTEND:20260224T230000Z
END:VEVENT
END:VCALENDAR
