BEGIN:VCALENDAR
VERSION:2.0
PRODID:SchoolNow
CALSCALE:GREGORIAN
BEGIN:VEVENT
UID:e7dc4cb2-9591-11f0-829e-0affc363eacf
DTSTAMP:20260422T092016Z
SUMMARY:School Council Meeting
URL;VALUE=URI:https://schools.shrewsburyma.gov/coolidge/calendar/8643854/sc
 hool-council-meeting
DTSTART:20260324T210000Z
DTEND:20260324T220000Z
END:VEVENT
END:VCALENDAR
