BEGIN:VCALENDAR
VERSION:2.0
PRODID:SchoolNow
CALSCALE:GREGORIAN
BEGIN:VEVENT
UID:a70772de-31c8-11f0-bbbf-0a58a9feac02
DTSTAMP:20260422T092016Z
SUMMARY:No School (Juneteenth)
URL;VALUE=URI:https://schools.shrewsburyma.gov/coolidge/calendar/8140831/no
 -school-juneteenth
DTSTART;VALUE=DATE:20260619
DTEND;VALUE=DATE:20260620
END:VEVENT
END:VCALENDAR
