BEGIN:VCALENDAR
VERSION:2.0
PRODID:SchoolNow
CALSCALE:GREGORIAN
BEGIN:VEVENT
UID:a70771ee-31c8-11f0-8675-0a58a9feac02
DTSTAMP:20260422T092016Z
SUMMARY:Last Day of School (1/2 Day) *If no snow days*
URL;VALUE=URI:https://schools.shrewsburyma.gov/coolidge/calendar/8140830/la
 st-day-of-school-1-2-day-if-no-snow-days
DTSTART;VALUE=DATE:20260623
DTEND;VALUE=DATE:20260624
END:VEVENT
END:VCALENDAR
