BEGIN:VCALENDAR
VERSION:2.0
PRODID:SchoolNow
CALSCALE:GREGORIAN
BEGIN:VEVENT
UID:a70770fe-31c8-11f0-be8d-0a58a9feac02
DTSTAMP:20260422T092016Z
SUMMARY:High School Graduation
URL;VALUE=URI:https://schools.shrewsburyma.gov/coolidge/calendar/8140829/hi
 gh-school-graduation
DTSTART;VALUE=DATE:20260528
DTEND;VALUE=DATE:20260529
END:VEVENT
END:VCALENDAR
