BEGIN:VCALENDAR
VERSION:2.0
PRODID:SchoolNow
CALSCALE:GREGORIAN
BEGIN:VEVENT
UID:a7077018-31c8-11f0-ae1a-0a58a9feac02
DTSTAMP:20260422T092016Z
SUMMARY:Early Release Day (Staff PD)
URL;VALUE=URI:https://schools.shrewsburyma.gov/coolidge/calendar/8140828/ea
 rly-release-day-staff-pd
DTSTART;VALUE=DATE:20260505
DTEND;VALUE=DATE:20260506
END:VEVENT
END:VCALENDAR
